Workbook

Sheet Section A
A1: BID NUMBER: ACDP 26/08
A2: THE APPOINTMENT OF A SERVICE PROVIDER FOR THE CONSTRUCTION OF 5,5HA SHADENET STRUCTURE AT GROUND STONE FARM IN CAPRICORN SOUTH OF THE CAPRICORN DISTRICT OF THE LIMPOPO PROVINCE
A3: SECTION A : GENERAL
G4: SECTION A
A5: ITEM | B5: PAY | E5: BILL
A6: No. | B6: REF. | C6: DESCRIPTION | D6: UNIT | E6: QUANT. | F6: RATE | G6: AMOUNT
B8: SABS | C8: SECTION 1: GENERAL REQUIREMENTS
A9: A | B9: 1200A | C9: AND PROVISIONS
A11: A1 | B11: 8.3 | C11: FIXED CHARGE AND VALUE-
C12: RELATED ITEMS
A13: A1.1 | B13: PSA 8.3.1.1 | C13: Fixed Preliminary and General charges | D13: Sum | E13: 1
A15: A1.2 | B15: PSA 8.3.1.2 | C15: Value related Preliminary & General charges | D15: Sum | E15: 1
A17: A2 | B17: 8.3.2 | C17: Establishment of facilities on site
B19: 8.3.2.2 | C19: Facilities for Contractor
A21: A2.1 | C21: Offices and storage sheds | D21: Sum | E21: 1
A23: A2.2 | C23: Ablution and latrine facilities | D23: Sum | E23: 1
A25: A2.3 | C25: Tools and equipment | D25: Sum | E25: 1
A27: A2.4 | C27: Water supply, electricity and communication | D27: Sum | E27: 1
A29: A2.5 | C29: Dealing with water | D29: Sum | E29: 1
A31: A2.6 | C31: Access | D31: Sum | E31: 1
A33: A2.7 | C33: Plant | D33: Sum | E33: 1
A35: A2.8 | B35: 8.3.3 | C35: Other fixed charge obligations | D35: Sum | E35: 1
A37: A2.9 | B37: 8.3.4 | C37: Removal of site establishment | D37: Sum | E37: 1
A39: A3 | B39: 8.4 | C39: TIME RELATED ITEMS
A41: A3.1 | B41: PSA 8.4.1 | C41: a) Time related Preliminary & General charges | D41: Sum | E41: 1
B43: PSAA 8.4.3 | C43: b) Complying with Health and Safety Regulations | D43: Sum | E43: 1
B45: PSAA 8.4.4 | C45: c) Insurance | D45: Sum | E45: 1
B47: 8.4.2 | C47: Operation and Maintenance of Facilities
C48: on Site, for Duration of Construction,
C49: except where otherwise stated
B52: 8.4.2.2 | C52: Facilities for Contractor
A54: A3.2 | C54: a) Offices and storage sheds | D54: Sum | E54: 1
A56: A3.3 | C56: a) Ablution and latrine facilities | D56: Sum | E56: 1
A58: A | C58: TOTAL CARRIED FORWARD
A60: BID NUMBER: ACDP 26/08
A61: =A2 -> THE APPOINTMENT OF A SERVICE PROVIDER FOR THE CONSTRUCTION OF 5,5HA SHADENET STRUCTURE AT GROUND STONE FARM IN CAPRICORN SOUTH OF THE CAPRICORN DISTRICT OF THE LIMPOPO PROVINCE
A62: SECTION A : GENERAL
G63: SECTION A2
A64: ITEM | B64: PAY | E64: BILL
A65: No. | B65: REF. | C65: DESCRIPTION | D65: UNIT | E65: QUANT. | F65: RATE | G65: AMOUNT
...

Sheet Section B-Shadenet
A1: ='Section A'!A1 -> BID NUMBER: ACDP 26/08
A2: ='Section A'!A2 -> THE APPOINTMENT OF A SERVICE PROVIDER FOR THE CONSTRUCTION OF 5,5HA SHADENET STRUCTURE AT GROUND STONE FARM IN CAPRICORN SOUTH OF THE CAPRICORN DISTRICT OF THE LIMPOPO PROVINCE
A3: SECTION B : SHADENET
G4: SECTION B
A5: ITEM | B5: PAY | D5: UNIT | E5: BILL
A6: No. | B6: REF. | C6: DESCRIPTION | E6: QUANT. | F6: RATE | G6: AMOUNT
A8: B | C8: Carry out the following operations where applicable: Manufacture, supply, deliver and install/construct for the following items:
C10: Works includes Supply, delivery, fabricate, installation/construction and commissioning of shadenet
A12: B1 | C12: PRUNING OF THE ORCHARD
A14: B1.1 | C14: Tree pruning and culling trees on the existing orchard to make way for working equipment | D14: PC Sum | E14: 1 | F14: 100000
A16: B1.2 | C16: Profit and financial charges on 1.1 above | D16: %
A19: B2 | C19: EXCAVATIONS
A20: B2.1 | B20: 8.2.8 | C20: a) Soft to intermediate excavation and backfilling using in-situ material for inner posts (400mm ᴓ x 1000mm depth) | D20: m3 | E20: 280
C22: b) Excavate for soft and intermediate soil for net anchoring (400mm ᴓ x 1000mm depth) | D22: m3 | E22: 143
C23: c) Excavate for soft and intermediate soil for outer posts (400mm ᴓ x 1000mm depth) | D23: m3 | E23: 143
C25: CONCRETE WORKS
A26: B2.2 | C26: 25 MPa concrte for inner posts, outer posts, anchor posts and stays | D26: m3 | E26: 167
A28: B2.3 | C28: POLES
C29: CCA treated round poles or similar approved (SABS approved) with end caps
A31: B2.3.1 | C31: 4,8m long x 125/150mm as anchor posts | D31: No | E31: 1235
A33: B2.3.2 | C33: 4,8m long x 100/125mm as inner posts | D33: No | E33: 552
A35: B2.3.3 | C35: 2m long x 32-50mm droppers with sharpened end for trellising | D35: No | E35: 2756
A37: B2.3.4 | C37: 2m long x 50-75mm trellising support | D37: No | E37: 1103
A39: B | C39: TOTAL CARRIED TO SUMMARY
A41: =A1 -> BID NUMBER: ACDP 26/08
A42: =A2 -> THE APPOINTMENT OF A SERVICE PROVIDER FOR THE CONSTRUCTION OF 5,5HA SHADENET STRUCTURE AT GROUND STONE FARM IN CAPRICORN SOUTH OF THE CAPRICORN DISTRICT OF THE LIMPOPO PROVINCE
A43: SECTION B :PEFABRICATED UNITS AND OFFICE EQUIPMENT
G44: SECTION B2
A45: ITEM | E45: BILL
A46: No. | C46: DESCRIPTION | D46: UNIT | E46: QUANT. | F46: RATE | G46: AMOUNT
C47: TOTAL BROUGHT FORWARD
A49: B3 | C49: NETTING
C50: Supply, deliver ,Install and commission
A52: B3.1 | C52: White Type net 3,2 m wide with 40% shading to cover 1 ha including side and gates shade net covering. On each poles bay: two roof shade nets must be factory stitched together in parallel. Each standard roll: 3.2m wide x 50m long | D52: No | E52: 497
A57: B3,2 | C57: ACCESSORIES
A59: B3.2.1 | C59: HR23 HOG rings | D59: Sum | E59: 1
A61: B3.2.2 | C61: 40mm U-Nail/ Staples | D61: kg | E61: 67
A63: B3.2.3 | C63: 25mm Flat head ceiling nails | D63: Sum | E63: 1
A65: B3.2.4 | C65: 14mm crosby clamps or similar approved galvanised clamps | D65: Sum | E65: 1
A67: B3.2.5 | C67: LV stay wire 3 x 3,35 1100MPa 100m coil | D67: No | E67: 67
...

Sheet Section C-PIPES
A1: BID NUMBER: ACDP XX/XX
A2: MATSIKA PACK HOUSE
A3: SECTION C : SERVICES
G4: SECTION C1
A5: ITEM | B5: PAY | E5: BILL
A6: No. | B6: REF. | C6: DESCRIPTION | D6: UNIT | E6: QUANT. | F6: RATE | G6: AMOUNT
B8: SABS | C8: SECTION C1 : PIPE TRENCHES
B9: 1200DB
A11: 1 | C11: Excavation for water lines
A13: 1.1 | B13: 8.3.2 | C13: a) Excavate in all materials for trenches,
C14: backfill, compact and dispose of surplus
C15: material for pipes for depth;
A17: 1.1.1 | C17: 0.0 m up to 1.0 m | D17: m³ | E17: 70
A19: 1.1.2 | C19: 1.0 m up to 2.0 m | D19: m³ | E19: 10
A21: 1.1.3 | C21: Extra over item 1.1 for;
C23: 1) Hard Rock excavation | D23: m³ | E23: 10
A25: 2 | B25: SABS
B26: 1200LB | C26: BEDDING (Pipes)
C27: Provision of bedding from trench excavation:
A28: 2.1 | B28: 8.2.1a) | C28: a) Selected granular material | D28: m³ | E28: 50
B30: 8.2.1b) | C30: b) Selected fill material | D30: m³ | E30: 40
A32: 3 | C32: Excavation for sewer lines
A34: 3.1 | B34: 8.3.2 | C34: a) Excavate in all materials for trenches,
C35: backfill, compact and dispose of surplus
C36: material for pipes for depth;
A38: 3.1.1 | C38: 0.0 m up to 1.5 m | D38: m³ | E38: 65
A40: 3.1.1 | C40: 1.5 m up to 2.5 m | D40: m³ | E40: 10
A42: 3.2 | C42: Extra over item 3.1 for;
C44: 1) Hard Rock excavation | D44: m³ | E44: 15
B46: SABS
A47: 4 | B47: 1200LB | C47: BEDDING (Pipes)
A48: 4.1 | C48: Provision of bedding from trench excavation:
B49: 8.2.1a) | C49: a) Selected granular material | D49: m³ | E49: 18
B51: 8.2.1b) | C51: b) Selected fill material | D51: m³ | E51: 12
A55: C1 | C55: TOTAL CARRIED TO SUMMARY
A57: BID NUMBER: ACDP 10/54
A58: STEVE MOHALE PACK HOUSE
A59: SECTION C : SERVICES
G60: SECTION C2
A61: ITEM | B61: PAY | E61: BILL
...

Sheet Section D-CONCRETE WORKS
A1: BID NUMBER: ACDP XX/XX
A2: MATSIKA PACK HOUSE
A3: SECTION D : CONCRETEWORK | G3: SECTION D1
A4: ITEM | B4: PAY | E4: BILL
A5: No. | B5: REF. | C5: DESCRIPTION | D5: UNIT | E5: QUANT. | F5: RATE | G5: AMOUNT
B6: SABS | C6: SECTION D1 : CONCRETE WORK
B7: 1200G
C8: Necessary form work cost shall be included , for stub
C9: columns,pad footings and strip foootings
A10: 1 | C10: Column bases, plinths, retaining wall strip footings
C12: Reinforcing
A13: 1.1 | B13: 8.1.1 | C13: a) Pack House Column pinths and bases (Y12,Y20, Y8) | D13: kg | E13: =3000*1.01 -> 3030
C14: b) Lean to strip foundation (Y12) | D14: kg | E14: =700*1.01 -> 707
C15: c) Ref 888 mesh, for retaining wall | D15: m2 | E15: 110
C17: Concrete
A18: 1.2 | B18: 8.1.2 | C18: a) 30 MPa Concrete in the stub columns | D18: m³ | E18: 18
C19: b) 30 Mpa concrete in retaining wall | D19: m³ | E19: 10
C20: c) 30 Mpa concrete in column bases | D20: m³ | E20: 28
C21: d) 30 Mpa concrete in strip foundations | D21: m³ | E21: 60
C23: Grout
A24: 1.3 | B24: 8.1.3 | C24: Grouting under baseplates with Pro-struct | D24: l | E24: 280
C25: 531M-GP general purpose grout.
A51: D1 | C51: TOTAL CARRIED TO SUMMARY
A53: BID NUMBER: ACDP 10/54
A54: STEVE MOHALE PACK HOUSE
A55: SECTION D : CONCRETEWORK
G56: SECTION D2
A57: ITEM | E57: BILL
A58: No. | C58: DESCRIPTION | D58: UNIT | E58: QUANT. | F58: RATE | G58: AMOUNT
B59: SABS | C59: SECTION D2 : CONCRETE WORK
B60: 1200G | C60: SURFACE BEDS AND STORMWATER DRAIN
C62: Surface beds and stormwater drain
A63: 1 | C63: Formwork items
A64: 1.1 | B64: 8.2.3 | C64: Rough vertical formwork to the perimeter | D64: m | E64: 120
C65: of the surface bed, 150mm high.
A67: 1.2 | C67: Rough vertical formwork to the perimeter | D67: m | E67: 300
C68: of the apron slab, 120mm high.
A70: 2 | B70: 8.3.1 | C70: Reinforcement items
A71: 2.1 | C71: a) High tensile reinforcing - Y10's in surface bed | D71: kg | E71: 5050
C72: b) High tensile mesh ref No. 254 in surface bed | D72: kg | E72: 100
...

Sheet Section E-STRUCTURAL STEEL
A1: ='Section A'!A1 -> BID NUMBER: ACDP 26/08
A2: ='Section A'!A2 -> THE APPOINTMENT OF A SERVICE PROVIDER FOR THE CONSTRUCTION OF 5,5HA SHADENET STRUCTURE AT GROUND STONE FARM IN CAPRICORN SOUTH OF THE CAPRICORN DISTRICT OF THE LIMPOPO PROVINCE
A3: SECTION E : STRUCTURAL STEELWORK
G4: SECTION E1
A5: ITEM | B5: PAY | E5: BILL
A6: No. | B6: REF. | C6: DESCRIPTION | D6: UNIT | E6: QUANT. | F6: RATE | G6: AMOUNT
B8: SABS | C8: SECTION E1 : STRUCTURAL STEELWORK
B9: 1200H
C11: Fabricate ,Supply and Deliver to Site
A13: 1 | B13: 8.3.1.1 | C13: Preparation of shop detail drawings. | D13: ton | E13: 20.7
A15: 2 | B15: 8.3.1.2 | C15: Supply and fabrication of steelwork;
C17: Grade 350WA structural steelwork including
C18: material, cuting and welding according to
C19: specifications in;
C21: The following hot rolled sections;
A23: 2.1 | C23: 45x45x5.0mm x 3.38 kg/m Angles in purlin | D23: ton | E23: 1.15
C24: sag bars and portal frame bottom flange
C25: braces.
A27: 2.2 | C27: RHS 100x100x4 cold room lateral support | D27: ton | E27: 0.75
C28: between columns
A30: 2.3 | C30: IPE-aa 160x12.3i section | D30: ton | E30: 0.5
C31: ridge ventilator frame
L32: =L81 -> 0
A33: 2.4 | C33: 254x146x31 x 31.3 kg/m I-section columns | D33: ton | E33: =6 -> 6
A35: 2.5 | C35: 305x102x33 x 32.8 kg/m I-section Rafters | D35: ton | E35: 5
A37: 2.6 | C37: Haunches cut from 305x102x33 x 32.8 kg/m I section | D37: ton | E37: 1
C38: I-section beams in the protal frame rafters.
A41: 2.7 | C41: 260x90 PFC channel for roller shutter door frame | D41: ton | E41: 0.6
A49: E1 | C49: TOTAL CARRIED FORWARD
A51: =A1 -> BID NUMBER: ACDP 26/08
A52: =A2 -> THE APPOINTMENT OF A SERVICE PROVIDER FOR THE CONSTRUCTION OF 5,5HA SHADENET STRUCTURE AT GROUND STONE FARM IN CAPRICORN SOUTH OF THE CAPRICORN DISTRICT OF THE LIMPOPO PROVINCE
A53: SECTION E : STRUCTURAL STEELWORK
G54: SECTION E1
A55: ITEM | B55: PAY | E55: BILL
A56: No. | B56: REF. | C56: DESCRIPTION | D56: UNIT | E56: QUANT. | F56: RATE | G56: AMOUNT
C57: TOTAL BROUGHT FORWARD | G57: =G49 -> 0
A58: 4 | B58: 8.3.1.2 | C58: Grade 350WA structural steelwork including
C59: material, cuting and welding according to
C60: specifications in;
C62: The following cold formed sections;
...

Sheet Section F -CLADDING
A1: ='Section A'!A1 -> BID NUMBER: ACDP 26/08
A2: ='Section A'!A2 -> THE APPOINTMENT OF A SERVICE PROVIDER FOR THE CONSTRUCTION OF 5,5HA SHADENET STRUCTURE AT GROUND STONE FARM IN CAPRICORN SOUTH OF THE CAPRICORN DISTRICT OF THE LIMPOPO PROVINCE
A3: SECTION F : CLADDING AND GUTTERS
G4: SECTION F1
A5: ITEM | B5: PAY | E5: BILL
A6: No. | B6: REF. | C6: DESCRIPTION | D6: UNIT | E6: QUANT. | F6: RATE | G6: AMOUNT
B7: SABS | C7: SECTION F1 : CLADDING & GUTTERS
C8: Cladding should include all necessary fittings
C9: to fix, strips,appropriately sized gutters enabling
C10: water go to approproprite drainage
B11: 1200 HB
A13: 1 | B13: 8.2.2 | C13: BR C1S AZ SS 150 925 FH 0.55mm | D13: m² | E13: 800
C14: including lap seal strips & fixings. (Packhouse)
A17: 1 | B17: 8.2.2 | C17: BR C1S AZ SS 150 925 FH 0.55mm | D17: m² | E17: 222
C18: sheeting including Flashings,lap seal strips & fixings.(Offices, generator room, toilets )
A21: 2 | B21: 8.2.3 | C21: FLASHING
A22: 2.1 | C22: CLADDING - FLASHINGS C1S AZ SS 386 - 462 | D22: No | E22: 14
A24: 2.2 | C24: BARGE - FLASHINGS C1S AZ SS 282 - 308 | D24: No | E24: 23
A26: 2.3 | C26: HEADWALL - FLASHINGS C1S AZ SS 386 - 462 | D26: No | E26: 4
A28: 2.4 | C28: EXT CORNER - FLASHINGS C1S AZ SS 000 - 154 | D28: No | E28: 40
A30: 2.3 | C30: IBR CLOSURES C1S AZ SS Drip Flashing | D30: No. | E30: 8
A32: 3 | C32: FIXTITES
A33: 3.1 | C33: 12 X 65 FIXTITE TF HEX HEAD C4 | D33: No | E33: 5670
A35: 3.2 | C35: 14 X 22 FIXTITE MF HEX HEAD STITCH C3 | D35: No | E35: 1500
A37: 3.3 | C37: 12 X 25 FIXTITE MF HEX HEAD C4 | D37: No | E37: 2800
A39: 4 | C39: GUTTERS
A40: 4.1 | C40: 200 x 220 High Back Box Gutterr to supplier's | D40: m | E40: 115
C41: specifications, supply with downpipes as per advise of supplier
A44: 5 | C44: Natural Lighting (packhouse)
C45: Supply,deliver and install 0.8mm thick SUNTUFF 6500,IBR, UV protection on 2 sides
A46: 5.1 | C46: 8.5m long SUNTUFF IBR 6500,Rooflights | D46: no | E46: 18
A49: 6 | C49: Ceileng for Packhouse
C50: Supply, deliver and Install
A52: 6.1 | C52: Thermal Insulation- Sisalation FR430, Heavy Industrial | D52: m2 | E52: 927
A57: 7 | C57: Ridge Ventilators
C58: Supply,deliver and Install with all necessary fittings
A60: 7.1 | C60: Flashworx/Equivalent Continous Ridge Ventilator | D60: m | E60: 37
A71: F1 | C71: TOTAL CARRIED FORWARD
A72: ='Section A'!A1 -> BID NUMBER: ACDP 26/08
A73: ='Section A'!A2 -> THE APPOINTMENT OF A SERVICE PROVIDER FOR THE CONSTRUCTION OF 5,5HA SHADENET STRUCTURE AT GROUND STONE FARM IN CAPRICORN SOUTH OF THE CAPRICORN DISTRICT OF THE LIMPOPO PROVINCE
...

Sheet Sheet1

Sheet Sheet2

Sheet Section G -ELECTRICAL
A1: BID NUMBER: ACDP 10/54
A2: MATSIKA PACKHOUSE
A3: SECTION G : ELECTRICAL INSTALLATION
G4: SECTION G
A5: ITEM | B5: PAY | E5: BILL
A6: No. | B6: REF. | C6: DESCRIPTION | D6: UNIT | E6: QUANT. | F6: RATE | G6: AMOUNT
B7: PSE 2 | C7: SECTION G : ELECTRICAL INSTALLATION
C9: Design Electrical Layout, Provide shop drawings for approval by the Engineer
C10: supply,deliver and Install all Electricals as per approved design
A13: 1.1 | C13: Testing and Commissioning | D13: sum | E13: 1
A14: 1.2 | C14: Certificate of Compliance | D14: sum | E14: 1
A16: 2.1 | C16: Supply and Install the following SWA PVC SWA
C17: LV Cables, Cable Terminations and BCEW
C18: complete with glands, lugs and labels as
C19: specified:
C20: a) 16mm² 4c LV Cable | D20: m | E20: 70
C21: b) 35mm² 4c LV Cable | D21: m | E21: 360
C22: c) 10mm² BCEW | D22: m | E22: 70
C23: d) 25mm² BCEW | D23: m | E23: 360
C24: e) 16mm² 4c LV Cable terminations | D24: nr | E24: 2
C25: f) 35mm² 4c LV Cable terminations | D25: nr | E25: 2
C26: g) Warning tape with LV Cables | D26: m | E26: 170
C27: h) Traffolite labels on all cable ends | D27: nr | E27: 4
A29: 2.2 | C29: Excavations for LV distribution cables, backfilling
C30: and machine compaction inclusive of 150mm
C31: bedding layer below and above cables in soil as
C32: specified (700mm deep):
C33: Total Qty =
C34: a) Hand pickable soil (soft soil) ( 70% ) | D34: m³ | E34: 38
C35: b) Machine excavation (soft rock) ( 25% ) | D35: m³ | E35: 14
C36: c) Hard rock (blasting) ( 5% ) | D36: m³ | E36: 3
C37: d) Back-filling and Compaction | D37: m³ | E37: 36
C38: e) Sifting of local soil for bedding of the cables and/or import soil subject to soil condition | D38: m³ | E38: 20
A40: 2.3 | C40: Supply and install 110mm dia PVC cable
C41: access sleeves as specified:
C42: a) 110mm dia PVC sleeve | D42: m | E42: 74
C43: b) 110mm dia PVC slow bends | D43: nr | E43: 3
A45: 3.1 | C45: Supply, install surface
C46: mounted Distribution Boards fully equipped c/w
C47: all switchboard equipment as specified:
...

Sheet Section H-BUILDING WORKS
A1: BID NUMBER: ACDP XX/XX
A2: MATSIKA PACK HOUSE
A3: SECTION H : BUILDING WORK
G4: SECTION H1
A5: ITEM | B5: PAY | E5: BILL
A6: No. | B6: REF. | C6: DESCRIPTION | D6: UNIT | E6: QUANT. | F6: RATE | G6: AMOUNT
A8: 1 | B8: PD02 | C8: BRICKWORK
C10: Hidden Brickwork, below natural ground level or on the inside face of the wall below the surface bed to be 14MPa Burnt Clay Bricks. Visible brickwork, above the ground or above the surface bed to be facebrick.
C15: All brickwork to be used in conjunction with Class ii mortar bedding with reamed joints. All rates to include brickforce in every fifth brick course.
A20: 1.1 | C20: Offices
C21: a) 115mm Clay Brick wall | D21: m² | E21: 63
C22: b)115mm Face Brick wall | D22: m² | E22: 63
A24: 1.2 | C24: Ablution Facility
C25: a) 115mm Clay Brick wall | D25: m² | E25: 63
C26: b) 115mm Face Brick Wall | D26: m² | E26: 63
A29: 1.3 | C29: Generators
C30: a) 115mm Clay Brick wall | D30: m² | E30: 30
C31: b) 115mm Clay Brick wall | D31: m² | E31: 30
A35: 1.4 | C35: Packhouse
C36: a) 115mm Clay Brick wall | D36: m² | E36: 780 | H36: =(45*3)+(1.5*37*3*2)+(37*2*2)+(15*2*2) -> 676
C37: c) 115mm Face Brick Wall | D37: m² | E37: 230
A51: H1 | C51: TOTAL CARRIED TO SUMMARY
A52: BID NUMBER: ACDP XX/XX
A53: MATSIKA PACK HOUSE
A54: SECTION H : BUILDING WORK
G55: SECTION H2
A56: ITEM | B56: PAY | E56: BILL
A57: No. | B57: REF. | C57: DESCRIPTION | D57: UNIT | E57: QUANT. | F57: RATE | G57: AMOUNT
A59: 2 | B59: PD 03 | C59: Doors and windows
A61: 2.1.1 | C61: Standard Pressed Metal Door and Frame including ironmongery and painting. For details refer to door schedule D1
C64: a) RDF2 (2032mm x 813mm) For one brick wall | D64: No. | E64: 5
C65: b) RDF2 (2032mm x 813mm) For one brick wall | D65: No. | E65: 12
A67: 2.1.2 | C67: Top and Side hung Residential Window (opening outwards): complete with pressed steel frame, 4mm thick pane glass and painting of the window frame. For details refer to window schedule W-1.
C71: a) Type NE1 | D71: No. | E71: 10
C72: b) Type NC11 | D72: No. | E72: 3
C73: c) Type NE4 | D73: No. | E73: 1
A75: 2.1.3 | C75: Supply and install a 4000 x 3600mm | D75: PC | E75: 1
C76: manual roller shutter door including
C77: profit and attendance.
A101: H2 | C101: TOTAL CARRIED TO SUMMARY
...

Sheet Section I-PACKHOUSE EQUIPMENT 
A1: ='Section A'!A1 -> BID NUMBER: ACDP 26/08
A2: ='Section A'!A2 -> THE APPOINTMENT OF A SERVICE PROVIDER FOR THE CONSTRUCTION OF 5,5HA SHADENET STRUCTURE AT GROUND STONE FARM IN CAPRICORN SOUTH OF THE CAPRICORN DISTRICT OF THE LIMPOPO PROVINCE
A3: SECTION I : PACKHOUSE EQUIPMENT
G4: SECTION I
A5: ITEM | B5: PAY | E5: BILL
A6: No. | B6: REF. | C6: DESCRIPTION | D6: UNIT | E6: QUANT. | F6: RATE | G6: AMOUNT
B8: PSE 1-2 | C8: SECTION I : PACKHOUSE EQUIPMENT
C10: Provide the sum of R for the complete coldroom design, installation including all mechanical equipment, commission, etc by a specialist Contractor
A12: 1 | C12: Coldroom:
C13: Design, supply, Install and test the following cold room facility. (installation in new storage facility on concrete floor & under roof. (4.4m x 9.5m x 3m high)Cooling rate - 1deg Celcius per h for 25t of Banana
A15: 1.1 | C15: Coldroom with ISOWALL 3m high wall panels and ceiling, complete with sliding door | D15: SUM | E15: 1
A20: 2 | B20: PSE 1-2 | C20: Pack line equipment with a capacity of 25 ton per day (3 ton/h):
C21: Design Packline, and provide shop drawings by specialist to be approved by Engineer. Supply, Install, test and commission the following equipment components. Commission machine as operating unit - on-site.
C22: All fasteners should be according to: SABS 1700: Fasteners
C23: All conveyor related equipment should be according to SANS 962: Conveyor belts standards.
C24: Steel work: Steel structures will be mild steel and will be painted with at least a primer and 2 topcoats, according to standard practice for pack lines.
A25: 2.1 | C25: 2x conveyor/elevator 1000mm wide x 11,0m long including the following: | D25: SUM | E25: 1
C26: - 12m long x 0.4m wide waste conveyor belt including drive unit with mechanical variable speed
C27: - Water Bath
C28: - 10 Stainless steel packing tables
C29: - Control Box
A32: I1 | C32: TOTAL CARRIED FORWARD
A34: BID NUMBER: ACDP XX/XX
A35: STEVE MOHALE PACK HOUSE
A36: SECTION I : PACKHOUSE EQUIPMENT
G37: SECTION I
A38: ITEM | B38: PAY | E38: BILL
A39: No. | B39: REF. | C39: DESCRIPTION | D39: UNIT | E39: QUANT. | F39: RATE | G39: AMOUNT
C40: TOTAL BROUGHT FORWARD
A43: 3 | C43: Allow for 10 training days for full operation of packline. First 5 days after commissioning and other 5 days during the Defects Liability period as requested by the Client. | D43: Sum | E43: 1
A49: I1 | C49: TOTAL CARRIED TO SUMMARY

Sheet Section J
A1: ='Section A'!A1 -> BID NUMBER: ACDP 26/08
A2: ='Section A'!A2 -> THE APPOINTMENT OF A SERVICE PROVIDER FOR THE CONSTRUCTION OF 5,5HA SHADENET STRUCTURE AT GROUND STONE FARM IN CAPRICORN SOUTH OF THE CAPRICORN DISTRICT OF THE LIMPOPO PROVINCE
A3: SECTION J : GATES AND PAVING
G4: SECTION J
A5: ITEM | B5: PAY | E5: BILL
A6: No. | B6: REF. | C6: DESCRIPTION | D6: UNIT | E6: QUANT. | F6: RATE | G6: AMOUNT
B8: PSVB 8 | C8: GATES
A9: 1 | C9: Supply, deliver and Install new sliding Gates for available fence fence 2.1m high
C10: Gates shall be hot dip galvanised, remote controlled and pelisade with devil's fork security on top and bottom
A12: 1.1 | C12: Supply, deliver and Installation of 4 Pelisade sliding, remote controlled gates with all accessories. | D12: Prov. Sum | E12: 1 | F12: R50000
C14: Mark Up on Above Item (1.1) | D14: %
A17: 1.2 | C17: Extra over Item 1.1 above for
C18: corner posts with stays including
C19: excavation and backfilling etc. | D19: No | E19: 8
A21: 1.3 | C21: Extra over Item 1.1 above for
C22: intermediate posts with stays including
C23: excavation and backfilling etc. | D23: No | E23: 10
A25: 1.4 | C25: Gate 5m wide complete with gate post
C26: arrangement including excavation and
C27: backfilling | D27: No | E27: 2
A29: 1.5 | C29: Extra-over for items 1.1 for:
C30: a) Hard rock excavation | D30: m³ | E30: 15
A32: 2 | C32: PAVING
C33: Area of pave to be Indicated by the Engineer
A35: 2.1 | C35: Excavation | D35: m3
A37: 2.2 | C37: C4 Stabilizing agent | D37: m3
A39: 2.3
A56: J1 | C56: TOTAL CARRIED TO SUMMARY
G58: SECTION J
A59: ITEM | B59: PAY | E59: BILL
A60: No. | B60: REF. | C60: DESCRIPTION | D60: UNIT | E60: QUANT. | F60: RATE | G60: AMOUNT
B61: PSVB 8 | C61: PAVING (SEE DRAWING CIV-401)
A62: 1 | C62: Bulk excavation:
C64: Excavate in all materials and dispose | D64: m3
A66: 1.1 | C66: Extra over items ABOVE FOR:
C68: Intermediate excavation | D68: m3
C70: Roadbed preparation and compaction of material to:
A71: 1.2
C73: Minimum of 93% of modified AASHTO
C74: maximum density (under roads) | D74: m2
...

Sheet Summary 
A1: ='Section B-Shadenet'!A1 -> BID NUMBER: ACDP 26/08
A2: ='Section B-Shadenet'!A2 -> THE APPOINTMENT OF A SERVICE PROVIDER FOR THE CONSTRUCTION OF 5,5HA SHADENET STRUCTURE AT GROUND STONE FARM IN CAPRICORN SOUTH OF THE CAPRICORN DISTRICT OF THE LIMPOPO PROVINCE
A3: TENDER BILL OF QUANTITIES
A5: BILL OF QUANTITIES -5,5 SHADENET AT GROUNDSTONE GROUP FARM
A7: SUMMARY OF SECTIONS
C8: BILL
A9: DESCRIPTION | C9: AMOUNT
A10: TOTAL SECTION A : PRELIMINARY AND GENERAL
A11: TOTAL SECTION B : CONSTRUCTION OF SHADENET
A12: SUBTOTAL 1
A13: 15% CONTINGENCIES =
A14: SUBTOTAL 2
A15: VAT @ 15% =
A16: TOTAL =
